BEGIN:VCALENDAR
VERSION:2.0
PRODID:-//Quartier Chomé ASBL - ECPv6.15.20//NONSGML v1.0//EN
CALSCALE:GREGORIAN
METHOD:PUBLISH
X-WR-CALNAME:Quartier Chomé ASBL
X-ORIGINAL-URL:https://www.quartierchome.be
X-WR-CALDESC:Évènements pour Quartier Chomé ASBL
REFRESH-INTERVAL;VALUE=DURATION:PT1H
X-Robots-Tag:noindex
X-PUBLISHED-TTL:PT1H
BEGIN:VTIMEZONE
TZID:Europe/Brussels
BEGIN:DAYLIGHT
TZOFFSETFROM:+0100
TZOFFSETTO:+0200
TZNAME:CEST
DTSTART:20250330T010000
END:DAYLIGHT
BEGIN:STANDARD
TZOFFSETFROM:+0200
TZOFFSETTO:+0100
TZNAME:CET
DTSTART:20251026T010000
END:STANDARD
BEGIN:DAYLIGHT
TZOFFSETFROM:+0100
TZOFFSETTO:+0200
TZNAME:CEST
DTSTART:20260329T010000
END:DAYLIGHT
BEGIN:STANDARD
TZOFFSETFROM:+0200
TZOFFSETTO:+0100
TZNAME:CET
DTSTART:20261025T010000
END:STANDARD
BEGIN:DAYLIGHT
TZOFFSETFROM:+0100
TZOFFSETTO:+0200
TZNAME:CEST
DTSTART:20270328T010000
END:DAYLIGHT
BEGIN:STANDARD
TZOFFSETFROM:+0200
TZOFFSETTO:+0100
TZNAME:CET
DTSTART:20271031T010000
END:STANDARD
END:VTIMEZONE
BEGIN:VEVENT
DTSTART;TZID=Europe/Brussels:20260422T140000
DTEND;TZID=Europe/Brussels:20260422T170000
DTSTAMP:20260421T121107
CREATED:20260324T204657Z
LAST-MODIFIED:20260324T205015Z
UID:30178-1776866400-1776877200@www.quartierchome.be
SUMMARY:Buiten Speeldag - Journée de jeux en plein air
DESCRIPTION:Le mercredi 22 avril après-midi\, la portion de la rue Wollès\, entre Leduc et Courtens sera fermée\, sans voiture\, et disponible pour les jeux des enfants de moins de 12 ans.\nC’est une initiative de la Commune de Schaerbeek\, supportée par l’asbl Quartier Chomé.\nDes jeux seront disponibles sur place mais les enfants peuvent évidemment partager les leurs !\nActivité gratuite – de 14h00 à 17h00\, accessible à toutes et tous. \nA très vite!
URL:https://www.quartierchome.be/event/buiten-speeldag-journee-de-jeux-en-plein-air/
LOCATION:Quartier Chomé\, Rue Camille Wollès\, Schaerbeek\, 1030\, Belgium
ATTACH;FMTTYPE=image/jpeg:https://www.quartierchome.be/wp-content/uploads/2026/03/Buiten-Speeldag.jpeg
END:VEVENT
END:VCALENDAR