BEGIN:VCALENDAR
VERSION:2.0
PRODID:-//Quartier Chomé ASBL - ECPv6.15.20//NONSGML v1.0//EN
CALSCALE:GREGORIAN
METHOD:PUBLISH
X-WR-CALNAME:Quartier Chomé ASBL
X-ORIGINAL-URL:https://www.quartierchome.be
X-WR-CALDESC:Évènements pour Quartier Chomé ASBL
REFRESH-INTERVAL;VALUE=DURATION:PT1H
X-Robots-Tag:noindex
X-PUBLISHED-TTL:PT1H
BEGIN:VTIMEZONE
TZID:Europe/Brussels
BEGIN:DAYLIGHT
TZOFFSETFROM:+0100
TZOFFSETTO:+0200
TZNAME:CEST
DTSTART:20230326T010000
END:DAYLIGHT
BEGIN:STANDARD
TZOFFSETFROM:+0200
TZOFFSETTO:+0100
TZNAME:CET
DTSTART:20231029T010000
END:STANDARD
BEGIN:DAYLIGHT
TZOFFSETFROM:+0100
TZOFFSETTO:+0200
TZNAME:CEST
DTSTART:20240331T010000
END:DAYLIGHT
BEGIN:STANDARD
TZOFFSETFROM:+0200
TZOFFSETTO:+0100
TZNAME:CET
DTSTART:20241027T010000
END:STANDARD
BEGIN:DAYLIGHT
TZOFFSETFROM:+0100
TZOFFSETTO:+0200
TZNAME:CEST
DTSTART:20250330T010000
END:DAYLIGHT
BEGIN:STANDARD
TZOFFSETFROM:+0200
TZOFFSETTO:+0100
TZNAME:CET
DTSTART:20251026T010000
END:STANDARD
BEGIN:DAYLIGHT
TZOFFSETFROM:+0100
TZOFFSETTO:+0200
TZNAME:CEST
DTSTART:20260329T010000
END:DAYLIGHT
BEGIN:STANDARD
TZOFFSETFROM:+0200
TZOFFSETTO:+0100
TZNAME:CET
DTSTART:20261025T010000
END:STANDARD
BEGIN:DAYLIGHT
TZOFFSETFROM:+0100
TZOFFSETTO:+0200
TZNAME:CEST
DTSTART:20270328T010000
END:DAYLIGHT
BEGIN:STANDARD
TZOFFSETFROM:+0200
TZOFFSETTO:+0100
TZNAME:CET
DTSTART:20271031T010000
END:STANDARD
END:VTIMEZONE
BEGIN:VEVENT
DTSTART;TZID=Europe/Brussels:20260419T100000
DTEND;TZID=Europe/Brussels:20260419T120000
DTSTAMP:20260421T145106
CREATED:20260324T203635Z
LAST-MODIFIED:20260329T203410Z
UID:30173-1776592800-1776600000@www.quartierchome.be
SUMMARY:Balade 'Nature' à La Hulpe
DESCRIPTION:Bonjour à toutes et tous\, \nL’asbl Quartier Chomé vous propose une balade ‘Nature’ le dimanche 19 avril dans le domaine du château de La Hulpe.\nLa balade sera encadrée par un guide nature (avec explication sur la faune et la flore).\nDépart vers 10h30 à La Hulpe (Parking Folon – Drève de la Ramée – Domaine du château de la Hulpe).\nL’activité est gratuite mais le nombre de participants étant limité à 25 personnes\, il est nécessaire de confirmer sa présence par mail (avec le nombre de participants) : asblquartierchomé@gmail.com.\nPriorité aux membres de l’ASBL.\nA très vite!
URL:https://www.quartierchome.be/event/balade-nature-a-la-hulpe/
LOCATION:Château de La Hulpe\, Parking Fondation Folon\, La Hulpe\, 1310\, Belgium
ATTACH;FMTTYPE=image/png:https://www.quartierchome.be/wp-content/uploads/2026/03/Cahteau-de-la-Hulpe.png
END:VEVENT
BEGIN:VEVENT
DTSTART;TZID=Europe/Brussels:20260321T093000
DTEND;TZID=Europe/Brussels:20260321T113000
DTSTAMP:20260421T145106
CREATED:20260301T201956Z
LAST-MODIFIED:20260305T093219Z
UID:30156-1774085400-1774092600@www.quartierchome.be
SUMMARY:Balade "Moineaux du quartier"
DESCRIPTION:Bonjour à toutes et tous\, \nA l’occasion de la journée internationale du moineau\, le Groupe Moineaux 1030 et l’asbl Quartier Chomé vous invitent à une balade à la découverte des moineaux de notre quartier.\nTout ce que vous avez toujours voulu savoir sur nos hôtes à plumes vous sera conté par un guide du Groupe Moineaux 1030. \nNous pouvons accepter un groupe de 20-25 personnes max.  Inscrivez-vous rapidement (jusqu’au 15/03) en envoyant un e-mail à asblquartierchome@gmail.com\, en indiquant le nombre de participants.  La participation est gratuite. \nRendez-vous à l’angle des rues Camille Wollès et Frans Courtens. \nAu plaisir de vous y voir!
URL:https://www.quartierchome.be/event/balade-moineaux-du-quartier/
ATTACH;FMTTYPE=image/png:https://www.quartierchome.be/wp-content/uploads/2026/03/Moineaux.png
END:VEVENT
BEGIN:VEVENT
DTSTART;TZID=Europe/Brussels:20260109T183000
DTEND;TZID=Europe/Brussels:20260109T210000
DTSTAMP:20260421T145106
CREATED:20251206T194208Z
LAST-MODIFIED:20251206T194208Z
UID:30143-1767983400-1767992400@www.quartierchome.be
SUMMARY:Pot des membres 2026
DESCRIPTION:Bonjour à tou.te.s\,\nCher.e.s membres\, \nVous nous faites confiance en étant membre de notre ASBL.\nNous vous en remercions chaleureusement !\nC’est avec grand plaisir que nous vous invitons\, comme les années précédentes\, à venir partager le verre de l’amitié avec les membres de notre asbl Quartier Chomé. \nQuand ? : le vendredi 9 janvier 2026 – à partir de 18h30\nOù ? : au bar de quartier « Copain » – avenue Rogier\, 262 – 1030 Schaerbeek\nQuoi ? : 1ère boisson offerte par l’ASBL – soit\, au choix : 1 soft\, 1 verre vin\, 1 verre bière (25 ou 33cl)\, 1 café ou thé\, (exclu : alcools et cocktails)\nPossibilité de prolonger et/ou petite restauration ensuite\, chacun à ses frais. \n! Activité réservée strictement aux membres de l’ASBL.\nMerci de confirmer votre présence (et le nombre de personnes) par e-mail\, avant le 19 décembre\, svp. \nNous vous attendons nombreux.ses et nous vous souhaitons d’excellentes fêtes de fin d’année. \nBénédicte\, Marilyn\, Natacha\, Virginie\, Emeric\, Philippe\, Olivier et Jean-Jacques\,\nles membres de l’OA de l’asbl Quartier Chomé.
URL:https://www.quartierchome.be/event/pot-des-membres-2026/
LOCATION:Bar « Copain »\, avenue Rogier 262\, Schaerbeek\, Belgium
ATTACH;FMTTYPE=image/jpeg:https://www.quartierchome.be/wp-content/uploads/2025/01/IMG_0257-scaled.jpg
END:VEVENT
BEGIN:VEVENT
DTSTART;TZID=Europe/Brussels:20251031T173000
DTEND;TZID=Europe/Brussels:20251031T193000
DTSTAMP:20260421T145106
CREATED:20250929T193603Z
LAST-MODIFIED:20250929T193913Z
UID:30053-1761931800-1761939000@www.quartierchome.be
SUMMARY:Fête d'Halloween
DESCRIPTION:Fête d’Halloween du Quartier Chomé 🎃🕯️🪦🕸️ \nL’asbl Quartier Chomé vous propose de participer à une soirée Halloween le 31 octobre prochain : \n\nDe 17h30 à 19h30 : Les enfants du quartier sont invités à déambuler dans nos rues. Ils seront attendus et accueillis au mieux par qui le souhaite… 👻💀\nLes enfants restent sous la responsabilité de leurs parents.\nA partir de 18h30 : stand vin chaud🍷\, soupe au potiron 🎃 et hot-dogs 🌭 au croisement des rues Paul Leduc et Wollès. N’hésitez pas à venir déguisés 🧙‍♀️🧛‍♂️🧟‍♀️ !!! (Avec votre tasse ou verre pour recevoir votre maléfique breuvage).\n\nNous vous encourageons à décorer vos maisons dans les prochains jours afin de faire vivre l’ambiance d’Halloween dans notre quartier. Un concours récompensera la façade et/ou le jardinet décoré le plus effrayant ! \nOn vous attend toutes et tous\, nombreux habitants du quartier\, petits et grands\, à notre stand.\n(Cet événement est malheureusement dépendant de la météo… et ne se déroulera que s’il fait sec ! Croisons les doigts !)
URL:https://www.quartierchome.be/event/fete-dhalloween/
ATTACH;FMTTYPE=image/png:https://www.quartierchome.be/wp-content/uploads/2025/09/Halloween.png
END:VEVENT
BEGIN:VEVENT
DTSTART;VALUE=DATE:20250913
DTEND;VALUE=DATE:20250915
DTSTAMP:20260421T145106
CREATED:20241022T131500Z
LAST-MODIFIED:20250628T200959Z
UID:29505-1757721600-1757894399@www.quartierchome.be
SUMMARY:Brocante et fête du quartier
DESCRIPTION:🎉 Fête du Quartier – 13 & 14 septembre 2025 🎉 \nLe quartier s’anime ! Les 13 et 14 septembre se déroulera notre fête de quartier. Deux jours de convivialité\, de rencontres et de bonne humeur! \n📦 Samedi 13 septembre : Brocante\nVenez chiner\, vendre\, ou simplement flâner dans les rues animées par notre brocante ouverte à toutes et tous. Le montant de participation aux frais (PAF) – pour 1 emplacement (± 5m sur 2m) est :\n* 8.00 euros\, pour les membres de l’asbl Quartier Chomé\,\n* 15.00 euros\, pour les non membres de l’asbl Quartier Chomé\, \n👉 Inscriptions à la brocante: \n\npar e-mail: asblquartierchome@gmail.com\npar téléphone: 0494 28 92 08\nen scannant le QR code:\n\n \n🔥 Dimanche 14 septembre : Barbecue festif\nRassemblons-nous autour d’un bon repas ! \nUn moment idéal pour (re)découvrir vos voisins et faire vivre l’esprit du quartier. On vous attend nombreux !
URL:https://www.quartierchome.be/event/brocante-et-fete-du-quartier/
ATTACH;FMTTYPE=image/png:https://www.quartierchome.be/wp-content/uploads/2024/10/Brocante-BBQ-1.png
END:VEVENT
BEGIN:VEVENT
DTSTART;TZID=Europe/Brussels:20250530T190000
DTEND;TZID=Europe/Brussels:20250530T220000
DTSTAMP:20260421T145106
CREATED:20250524T190729Z
LAST-MODIFIED:20250524T190729Z
UID:29966-1748631600-1748642400@www.quartierchome.be
SUMMARY:La Fête des Voisins
DESCRIPTION:Cette année\, la fête des voisins\, c’est le vendredi 30 mai.\nL’occasion de s’échanger un verre et de partager l’apéro…\nSi le temps le permet : RDV au triangle des rues Leduc et Wollès à partir de 19h00.\nPassez le mot à vos voisins !
URL:https://www.quartierchome.be/event/la-fete-des-voisins/
ATTACH;FMTTYPE=image/jpeg:https://www.quartierchome.be/wp-content/uploads/2025/05/Fete-des-voisins.jpg
END:VEVENT
BEGIN:VEVENT
DTSTART;TZID=Europe/Brussels:20250525T103000
DTEND;TZID=Europe/Brussels:20250525T123000
DTSTAMP:20260421T145106
CREATED:20250315T125635Z
LAST-MODIFIED:20250420T151558Z
UID:29840-1748169000-1748176200@www.quartierchome.be
SUMMARY:Art Nouveau à Schaerbeek
DESCRIPTION:Bonjour à tous\, \nL’ASBL quartier Chomé vous propose\, en collaboration avec l’ARAU (Atelier de Recherche et d’Action Urbaines)\, la visite de l’une des avenues emblématiques de Schaerbeek\, à savoir la prestigieuse Avenue Louis Bertrand\, sous la thématique : Art Nouveau à Schaerbeek. \n« Au début du XXe siècle\, le village de Schaerbeek est bouleversé par la création de la prestigieuse avenue Louis Bertrand. Des nouveaux quartiers résidentiels et arborés y attirent une population aisée qui fait appel aux meilleurs architectes de l’époque. Victor Horta\, Gustave Strauven\, François Hemelsoet ou encore Henri Jacobs y réinventent la maison unifamiliale\, l’immeuble de rapport ou encore le complexe scolaire ». \n* Date : Dimanche 25/05/2025. Départ de la visite vers 10h30. Durée : 2h00\n* Rendez-vous à 10h20 au lieu-dit « le mât électrique de Lalaing » (à l’intersection des avenues Louis Bertrand\, Paul Deschanel et Voltaire). RDV sur le coin de la Brasserie de Lalaing.\n* Participation aux frais par personne : 8€ pour les membres de l’ASBL – 10€ pour les non-membres\n* Clôture des inscriptions : Vendredi 16/05/2025\n* Visite commentée par un guide de l’ARAU\n* Groupe de +/- 25 personnes \nMerci de confirmer votre participation à l’activité en effectuant votre virement bancaire sur le compte Triodos BE32 5230 8148 2402\, avant vendredi 16 mai 2025\, svp\, en mentionnant en communication : « Nom – Prénom des personnes participantes à l’activité ».\n! Important : Seul votre virement sur le compte de l’ASBL nous permet de comptabiliser et de valider le nombre de participants.\nMerci.\nEn espérant vous y voir nombreuses et nombreux. \nA bientôt!
URL:https://www.quartierchome.be/event/art-nouveau-a-schaerbeek/
ATTACH;FMTTYPE=image/jpeg:https://www.quartierchome.be/wp-content/uploads/2025/03/Avenue-Louis-Bertrand-1.jpg
END:VEVENT
BEGIN:VEVENT
DTSTART;TZID=Europe/Brussels:20250110T183000
DTEND;TZID=Europe/Brussels:20250110T213000
DTSTAMP:20260421T145106
CREATED:20241022T131355Z
LAST-MODIFIED:20241209T171311Z
UID:29503-1736533800-1736544600@www.quartierchome.be
SUMMARY:Pot des membres
DESCRIPTION:Venez célébrer le début de l’année 2025 lors de la rencontre annuelle des membres de l’asbl Quartier Chomé. Rejoignez-nous pour lever votre verre lors de ce moment chaleureux. \nCette activité est réservée aux membres de l’asbl Quartier Chomé\, en ordre de cotisation 2024. \n 
URL:https://www.quartierchome.be/event/pot-des-membres/
LOCATION:Bar « Copain »\, avenue Rogier 262\, Schaerbeek\, Belgium
ATTACH;FMTTYPE=image/jpeg:https://www.quartierchome.be/wp-content/uploads/2024/06/0-ee0973b3-4b56-49c6-8d70-5aa0fe9988e2-800x600.jpg
END:VEVENT
BEGIN:VEVENT
DTSTART;TZID=Europe/Brussels:20241109T103000
DTEND;TZID=Europe/Brussels:20241109T120000
DTSTAMP:20260421T145106
CREATED:20241104T200259Z
LAST-MODIFIED:20241127T205522Z
UID:29623-1731148200-1731153600@www.quartierchome.be
SUMMARY:Visite du cimetière de Bruxelles
DESCRIPTION:! RDV au plus tard à 10h45 à l’entrée du cimetière de Bruxelles. La visite débute à 11h00 !\n\n\nSamedi 09 novembre à 10h45 – Promenade découverte du cimetière de Bruxelles :\n\nUn guide professionnel de la revue Natrimoine se propose de nous accompagner pour une balade à la (re)découverte du cimetière de Bruxelles.\nLa visite coûte 14€ avec un exemplaire de Natrimoine inclus (valeur 14€) ou gratuit pour ceux qui sont déjà abonnés à la revue.\n\n\n\nNous vous attendons nombreux à cette activité ! D’avance merci pour votre participation.\n\n 
URL:https://www.quartierchome.be/event/visite-du-cimetiere-de-bruxelles/
ATTACH;FMTTYPE=image/png:https://www.quartierchome.be/wp-content/uploads/2024/11/Natrimoine.png
END:VEVENT
BEGIN:VEVENT
DTSTART;VALUE=DATE:20241031
DTEND;VALUE=DATE:20241101
DTSTAMP:20260421T145106
CREATED:20241022T131142Z
LAST-MODIFIED:20241104T195642Z
UID:29501-1730332800-1730419199@www.quartierchome.be
SUMMARY:Halloween
DESCRIPTION:Plongez dans l’ambiance mystérieuse de la sortie Halloween organisée par le Quartier Chomé. Venez vivre une soirée pleine de frissons et de surprises en famille ou entre amis.
URL:https://www.quartierchome.be/event/halloween/
ATTACH;FMTTYPE=image/jpeg:https://www.quartierchome.be/wp-content/uploads/2024/10/397410355_10163395197766562_884469479526719840_n.jpg
END:VEVENT
BEGIN:VEVENT
DTSTART;VALUE=DATE:20240908
DTEND;VALUE=DATE:20240909
DTSTAMP:20260421T145106
CREATED:20241022T130924Z
LAST-MODIFIED:20241104T200749Z
UID:29499-1725753600-1725839999@www.quartierchome.be
SUMMARY:Fête du quartier & BBQ
DESCRIPTION:Plongez dans l’ambiance festive de notre fête de quartier et barbecue\, un événement incontournable pour tous les habitants de Quartier Chomé ! \nAu plaisir de vous y voir !
URL:https://www.quartierchome.be/event/fete-du-quartier-bbq/
ATTACH;FMTTYPE=image/jpeg:https://www.quartierchome.be/wp-content/uploads/2024/10/Affiche-officielle-BBQ-2024-scaled.jpg
END:VEVENT
END:VCALENDAR